BEGIN:VCALENDAR
VERSION:2.0
BEGIN:VEVENT
DTSTART:20181024T190000
SUMMARY:CEITEC Science Mixer - Halloween Special Edition
LOCATION:Eleven club, Dominikánská 347/11, Brno
STATUS:CONFIRMED
END:VEVENT
END:VCALENDAR