BEGIN:VCALENDAR
VERSION:2.0
BEGIN:VEVENT
DTSTART:20200327T130000
DTEND:20200327T140000
SUMMARY:CANCELLED: Lecture: Simultaneous Gene Transcription and Translation in Bacteria
LOCATION:Room 205, Building A11, University Campus
STATUS:CONFIRMED
END:VEVENT
END:VCALENDAR