BEGIN:VCALENDAR
VERSION:2.0
BEGIN:VEVENT
DTSTART:20200623T090000
DTEND:20200623T150000
SUMMARY:Introduction to Raman Microscope Renishaw inVia
LOCATION:CEITEC, University Campus Bohunice, Building A35, Atrium
STATUS:CONFIRMED
END:VEVENT
END:VCALENDAR