BEGIN:VCALENDAR
VERSION:2.0
BEGIN:VEVENT
DTSTART:20210422T090000
DTEND:20210422T103000
SUMMARY:CELLIM Workshop - Seeing Invisible with Elyra 7 System:  Introduction to Super Resolution Microscopy Using Lattice SIM and SMLM
LOCATION:ONLINE ZOOM
STATUS:CONFIRMED
END:VEVENT
END:VCALENDAR