BEGIN:VCALENDAR
VERSION:2.0
BEGIN:VEVENT
DTSTART:20211021T090000
DTEND:20211021T160000
SUMMARY:CF Day Meeting
LOCATION:University Campus , Building E35, Room 211  / ZOOM
STATUS:CONFIRMED
END:VEVENT
END:VCALENDAR