BEGIN:VCALENDAR
VERSION:2.0
BEGIN:VEVENT
DTSTART:20220909
SUMMARY:3rd International Meeting Phase in Brno
LOCATION:CEITEC Vysoké učení technické v Brně, Purkyňova 123
STATUS:CONFIRMED
END:VEVENT
END:VCALENDAR