BEGIN:VCALENDAR
VERSION:2.0
BEGIN:VEVENT
DTSTART:20220916T130000
DTEND:20220916T140000
SUMMARY:PI Seminar: Upconversion Microscopy for Background-free Imaging and Analysis of Enzyme Kinetics at the Single Molecule Level
LOCATION:University Campus Bohunice, Building B11, Room 205
STATUS:CONFIRMED
END:VEVENT
END:VCALENDAR