BEGIN:VCALENDAR
VERSION:2.0
BEGIN:VEVENT
DTSTART:20230224T130000
DTEND:20230224T140000
SUMMARY:PI Seminar: Regulating and being regulated: structure-function relationship of disordered proteins influencing our health
LOCATION:CEITEC MU, University Campus, Building B11, Room 205
STATUS:CONFIRMED
END:VEVENT
END:VCALENDAR