BEGIN:VCALENDAR
VERSION:2.0
BEGIN:VEVENT
DTSTART:20230906
DTEND:20230908
SUMMARY:Summer Workshop on BioAFM Microscopy 2023
LOCATION:CEITEC MU, University Campus, Building E35, Room 211
STATUS:CONFIRMED
END:VEVENT
END:VCALENDAR