BEGIN:VCALENDAR
VERSION:2.0
BEGIN:VEVENT
DTSTART:20230905
DTEND:20230906
SUMMARY:Bio-SAXS Practical Course 2023
LOCATION:CEITEC MU, University Campus, Building B09, Room 316
STATUS:CONFIRMED
END:VEVENT
END:VCALENDAR