BEGIN:VCALENDAR
VERSION:2.0
BEGIN:VEVENT
DTSTART:20231005T140000
DTEND:20231005T173000
SUMMARY:Welcome and Info PhD Day
LOCATION:CEITEC MU, University Campus, Building B11, Room 205 + Building E35, Atrium
STATUS:CONFIRMED
END:VEVENT
END:VCALENDAR