BEGIN:VCALENDAR
VERSION:2.0
BEGIN:VEVENT
DTSTART:20230921T130000
DTEND:20230921T140000
SUMMARY:Tea Time Special: PostDoc Appreciation Week
LOCATION:CEITEC MU, University Campus, Building E35, Atrium
STATUS:CONFIRMED
END:VEVENT
END:VCALENDAR