BEGIN:VCALENDAR
VERSION:2.0
BEGIN:VEVENT
DTSTART:20231010
DTEND:20231011
SUMMARY:MSV 2023: Prohlídky RICAIP Testbed Brno – podpora digitalizace v průmyslu
LOCATION:651/139, Purkyňova, 612 00 Brno (hala AdMas)
STATUS:CONFIRMED
END:VEVENT
END:VCALENDAR