BEGIN:VCALENDAR
VERSION:2.0
BEGIN:VEVENT
DTSTART:20240322T130000
DTEND:20240322T140000
SUMMARY:PI Seminar: Homologous Recombination: From Repair of Double-Strand Breaks to Processing Stalled Replication Forks and Its Implications in Cancer Development
LOCATION:CEITEC MUNI, University Campus, Building B11, Room 205
STATUS:CONFIRMED
END:VEVENT
END:VCALENDAR