BEGIN:VCALENDAR
VERSION:2.0
BEGIN:VEVENT
DTSTART:20240320T160000
DTEND:20240320T180000
SUMMARY:Sip of Science: The railways of the brain
LOCATION:CEITEC MUNI, University Campus, Building E35, Atrium
STATUS:CONFIRMED
END:VEVENT
END:VCALENDAR