BEGIN:VCALENDAR
VERSION:2.0
BEGIN:VEVENT
DTSTART:20240902
DTEND:20240906
SUMMARY:Neural Engineering Summer School 2024
LOCATION:CEITEC VUT, Purkyňova 123, Brno-Královo Pole
STATUS:CONFIRMED
END:VEVENT
END:VCALENDAR