BEGIN:VCALENDAR
VERSION:2.0
BEGIN:VEVENT
DTSTART:20240619T150000
DTEND:20240619T180000
SUMMARY:Sip of Science meets Sci Comms (special edition)
LOCATION:CEITEC MUNI, University Campus, Building E35, Atrium
STATUS:CONFIRMED
END:VEVENT
END:VCALENDAR