BEGIN:VCALENDAR
VERSION:2.0
BEGIN:VEVENT
DTSTART:20241016T153000
DTEND:20241016T173000
SUMMARY:Sip of Science: And how old is your brain?
LOCATION:CEITEC MUNI, University Campus, Building E35, Atrium
STATUS:CONFIRMED
END:VEVENT
END:VCALENDAR