BEGIN:VCALENDAR
VERSION:2.0
BEGIN:VEVENT
DTSTART:20241119T140000
DTEND:20241119T180000
SUMMARY:Týden pro Digitální Česko: Prohlídka továrny budoucnosti
LOCATION:CEITEC VUT, Purkyňova 123, 602 00 Brno
STATUS:CONFIRMED
END:VEVENT
END:VCALENDAR