BEGIN:VCALENDAR
VERSION:2.0
BEGIN:VEVENT
DTSTART:20250218T110000
SUMMARY:OPTICAL TWEEZERS AND SINGLE MOLECULES: How to control, manipulate and visualize biomolecular complexes in real-time
LOCATION:CEITEC MUNI, University Campus, Building E35, Room 211
STATUS:CONFIRMED
END:VEVENT
END:VCALENDAR