BEGIN:VCALENDAR
VERSION:2.0
BEGIN:VEVENT
DTSTART:20250305T153000
DTEND:20250305T173000
SUMMARY:Sip of Science: Uncovering brain functions with MRI
LOCATION:CEITEC MUNI, University Campus, Building E35, Atrium
STATUS:CONFIRMED
END:VEVENT
END:VCALENDAR