BEGIN:VCALENDAR
VERSION:2.0
BEGIN:VEVENT
DTSTART:20250402T153000
DTEND:20250402T173000
SUMMARY:Sip of Science: Cancer Cell's Journey to Survival
LOCATION:CEITEC MUNI, University Campus, Building E35, Atrium
STATUS:CONFIRMED
END:VEVENT
END:VCALENDAR