BEGIN:VCALENDAR
VERSION:2.0
BEGIN:VEVENT
DTSTART:20250430T153000
DTEND:20250430T173000
SUMMARY:Sip of Science: When Molecules Play Origami
LOCATION:CEITEC MUNI, University Campus, Building E35, Atrium
STATUS:CONFIRMED
END:VEVENT
END:VCALENDAR