BEGIN:VCALENDAR
VERSION:2.0
BEGIN:VEVENT
DTSTART:20250611T150000
DTEND:20250611T170000
SUMMARY:Sip of Science: Lab Coats off, Mics on! (Special edition)
LOCATION:CEITEC MUNI, University Campus, Building E35, Atrium
STATUS:CONFIRMED
END:VEVENT
END:VCALENDAR