BEGIN:VCALENDAR
VERSION:2.0
BEGIN:VEVENT
DTSTART:20250320T100000
DTEND:20250320T140000
SUMMARY:Introduction to molecular structure optimisation in xTB (in Czech)
LOCATION:CEITEC MUNI, University Campus, Building C04, Room 118
STATUS:CONFIRMED
END:VEVENT
END:VCALENDAR