BEGIN:VCALENDAR
VERSION:2.0
BEGIN:VEVENT
DTSTART:20251202
DTEND:20251205
SUMMARY:Processing and Analysis of Biological Images
LOCATION:EDU Centrum, Netroufalky 7, Brno - Bohunice
STATUS:CONFIRMED
END:VEVENT
END:VCALENDAR