BEGIN:VCALENDAR
VERSION:2.0
BEGIN:VEVENT
DTSTART:20250909
DTEND:20250910
SUMMARY:Bio-SAXS Practical Course 2025
LOCATION:University Campus, Building B09, Room 316
STATUS:CONFIRMED
END:VEVENT
END:VCALENDAR