BEGIN:VCALENDAR
VERSION:2.0
BEGIN:VEVENT
DTSTART:20251010T130000
DTEND:20251010T140000
SUMMARY:PI Seminar: Understanding and Overcoming Resistance of Acute Myeloid Leukemia to Targeted Therapy with Venetoclax
LOCATION:University Campus, Building B11, Room 205
STATUS:CONFIRMED
END:VEVENT
END:VCALENDAR