BEGIN:VCALENDAR
VERSION:2.0
BEGIN:VEVENT
DTSTART:20250924T153000
DTEND:20250924T173000
SUMMARY:Sip of Science: Two views, one brain. A synergy of electroencephalography and functional magnetic resonance
LOCATION:CEITEC MUNI, University Campus, Building E35, Atrium
STATUS:CONFIRMED
END:VEVENT
END:VCALENDAR