BEGIN:VCALENDAR
VERSION:2.0
BEGIN:VEVENT
DTSTART:20251030T153000
DTEND:20251030T173000
SUMMARY:Sip of Science: Molecular Mythology
LOCATION:CEITEC MUNI, University Campus, Building E35, Atrium
STATUS:CONFIRMED
END:VEVENT
END:VCALENDAR