BEGIN:VCALENDAR
VERSION:2.0
BEGIN:VEVENT
DTSTART:20251119T153000
DTEND:20251119T173000
SUMMARY:Sip of Science: How to Stay Sane in Structural Biology - Spoiler Alert, You Don’t. Or The Good, The Bad, and The Reviewer #2
LOCATION:CEITEC MUNI, University Campus, Building E35, Atrium
STATUS:CONFIRMED
END:VEVENT
END:VCALENDAR