BEGIN:VCALENDAR
VERSION:2.0
BEGIN:VEVENT
DTSTART:20260424T130000
DTEND:20260424T140000
SUMMARY:PI Seminar: Study of Electrophysiology on the Cellular and Tissue Level as a Source of Essential Clinically Relevant Data
LOCATION:University Campus, Building B11, Room 205
STATUS:CONFIRMED
END:VEVENT
END:VCALENDAR