BEGIN:VCALENDAR
VERSION:2.0
BEGIN:VEVENT
DTSTART:20260429T153000
DTEND:20260429T173000
SUMMARY:Sip pf Science: TBA
LOCATION:CEITEC MUNI, University Campus, Building E35, Atrium
STATUS:CONFIRMED
END:VEVENT
END:VCALENDAR