BEGIN:VCALENDAR
VERSION:2.0
BEGIN:VEVENT
DTSTART:20260402T140000
SUMMARY:Structural Biology Seminar: Replication and Repair of Structure-Forming Repeats: Role of Repositioning to the Nuclear Periphery
LOCATION:University Campus Bohunice, Building B11, Room 205
STATUS:CONFIRMED
END:VEVENT
END:VCALENDAR