BEGIN:VCALENDAR
VERSION:2.0
BEGIN:VEVENT
DTSTART:20260423T140000
SUMMARY:Structural Biology Seminar: Structural Basis of Eukaryotic Ribosome Assembly
LOCATION:University Campus Bohunice, Building B11, Room 205
STATUS:CONFIRMED
END:VEVENT
END:VCALENDAR