BEGIN:VCALENDAR
VERSION:2.0
BEGIN:VEVENT
DTSTART:20260422T090000
DTEND:20260422T123000
SUMMARY:IRONMAN or Fe-MALE?: Resources for All of Us 2026
LOCATION:CEITEC, Purkyňova 123, Building S, Meeting room – S2.02
STATUS:CONFIRMED
END:VEVENT
END:VCALENDAR