BEGIN:VCALENDAR
VERSION:2.0
BEGIN:VEVENT
DTSTART:20260831
DTEND:20260901
SUMMARY:Multimodal Microscopy Workshop 2026
LOCATION:CEITEC MU, University Campus, Building E35, Atrium
STATUS:CONFIRMED
END:VEVENT
END:VCALENDAR