BEGIN:VCALENDAR
VERSION:2.0
BEGIN:VEVENT
DTSTART:20260519T103000
DTEND:20260519T123000
SUMMARY:Doctoral Thesis Defence
LOCATION:CEITEC MUNI, University Campus, Building E35, Room 145 & Online
STATUS:CONFIRMED
END:VEVENT
END:VCALENDAR