BEGIN:VCALENDAR
VERSION:2.0
BEGIN:VEVENT
DTSTART:20260429T140000
SUMMARY:AMN Seminar Series: Taming Magnons: Electric, Nonlinear, and Thermal Pathways to Functional Spin-Wave Systems
LOCATION:Meeting room P4, BUT FSI, Technická 2
STATUS:CONFIRMED
END:VEVENT
END:VCALENDAR